BEGIN:VCALENDAR
VERSION:2.0
PRODID:-//Granta - ECPv6.15.13//NONSGML v1.0//EN
CALSCALE:GREGORIAN
METHOD:PUBLISH
X-ORIGINAL-URL:https://www.granta.com.es
X-WR-CALDESC:Eventos para Granta
REFRESH-INTERVAL;VALUE=DURATION:PT1H
X-Robots-Tag:noindex
X-PUBLISHED-TTL:PT1H
BEGIN:VTIMEZONE
TZID:America/New_York
BEGIN:DAYLIGHT
TZOFFSETFROM:-0500
TZOFFSETTO:-0400
TZNAME:EDT
DTSTART:20200308T070000
END:DAYLIGHT
BEGIN:STANDARD
TZOFFSETFROM:-0400
TZOFFSETTO:-0500
TZNAME:EST
DTSTART:20201101T060000
END:STANDARD
BEGIN:DAYLIGHT
TZOFFSETFROM:-0500
TZOFFSETTO:-0400
TZNAME:EDT
DTSTART:20210314T070000
END:DAYLIGHT
BEGIN:STANDARD
TZOFFSETFROM:-0400
TZOFFSETTO:-0500
TZNAME:EST
DTSTART:20211107T060000
END:STANDARD
BEGIN:DAYLIGHT
TZOFFSETFROM:-0500
TZOFFSETTO:-0400
TZNAME:EDT
DTSTART:20220313T070000
END:DAYLIGHT
BEGIN:STANDARD
TZOFFSETFROM:-0400
TZOFFSETTO:-0500
TZNAME:EST
DTSTART:20221106T060000
END:STANDARD
END:VTIMEZONE
BEGIN:VTIMEZONE
TZID:America/Panama
BEGIN:STANDARD
TZOFFSETFROM:-0500
TZOFFSETTO:-0500
TZNAME:EST
DTSTART:20200101T000000
END:STANDARD
END:VTIMEZONE
BEGIN:VTIMEZONE
TZID:Europe/Helsinki
BEGIN:DAYLIGHT
TZOFFSETFROM:+0200
TZOFFSETTO:+0300
TZNAME:EEST
DTSTART:20200329T010000
END:DAYLIGHT
BEGIN:STANDARD
TZOFFSETFROM:+0300
TZOFFSETTO:+0200
TZNAME:EET
DTSTART:20201025T010000
END:STANDARD
BEGIN:DAYLIGHT
TZOFFSETFROM:+0200
TZOFFSETTO:+0300
TZNAME:EEST
DTSTART:20210328T010000
END:DAYLIGHT
BEGIN:STANDARD
TZOFFSETFROM:+0300
TZOFFSETTO:+0200
TZNAME:EET
DTSTART:20211031T010000
END:STANDARD
BEGIN:DAYLIGHT
TZOFFSETFROM:+0200
TZOFFSETTO:+0300
TZNAME:EEST
DTSTART:20220327T010000
END:DAYLIGHT
BEGIN:STANDARD
TZOFFSETFROM:+0300
TZOFFSETTO:+0200
TZNAME:EET
DTSTART:20221030T010000
END:STANDARD
BEGIN:DAYLIGHT
TZOFFSETFROM:+0200
TZOFFSETTO:+0300
TZNAME:EEST
DTSTART:20230326T010000
END:DAYLIGHT
BEGIN:STANDARD
TZOFFSETFROM:+0300
TZOFFSETTO:+0200
TZNAME:EET
DTSTART:20231029T010000
END:STANDARD
END:VTIMEZONE
BEGIN:VTIMEZONE
TZID:Asia/Karachi
BEGIN:STANDARD
TZOFFSETFROM:+0500
TZOFFSETTO:+0500
TZNAME:PKT
DTSTART:20200101T000000
END:STANDARD
END:VTIMEZONE
BEGIN:VTIMEZONE
TZID:America/Mexico_City
BEGIN:DAYLIGHT
TZOFFSETFROM:-0600
TZOFFSETTO:-0500
TZNAME:CDT
DTSTART:20200405T080000
END:DAYLIGHT
BEGIN:STANDARD
TZOFFSETFROM:-0500
TZOFFSETTO:-0600
TZNAME:CST
DTSTART:20201025T070000
END:STANDARD
BEGIN:DAYLIGHT
TZOFFSETFROM:-0600
TZOFFSETTO:-0500
TZNAME:CDT
DTSTART:20210404T080000
END:DAYLIGHT
BEGIN:STANDARD
TZOFFSETFROM:-0500
TZOFFSETTO:-0600
TZNAME:CST
DTSTART:20211031T070000
END:STANDARD
BEGIN:DAYLIGHT
TZOFFSETFROM:-0600
TZOFFSETTO:-0500
TZNAME:CDT
DTSTART:20220403T080000
END:DAYLIGHT
BEGIN:STANDARD
TZOFFSETFROM:-0500
TZOFFSETTO:-0600
TZNAME:CST
DTSTART:20221030T070000
END:STANDARD
END:VTIMEZONE
BEGIN:VTIMEZONE
TZID:America/New_York
BEGIN:DAYLIGHT
TZOFFSETFROM:-0500
TZOFFSETTO:-0400
TZNAME:EDT
DTSTART:20200308T070000
END:DAYLIGHT
BEGIN:STANDARD
TZOFFSETFROM:-0400
TZOFFSETTO:-0500
TZNAME:EST
DTSTART:20201101T060000
END:STANDARD
BEGIN:DAYLIGHT
TZOFFSETFROM:-0500
TZOFFSETTO:-0400
TZNAME:EDT
DTSTART:20210314T070000
END:DAYLIGHT
BEGIN:STANDARD
TZOFFSETFROM:-0400
TZOFFSETTO:-0500
TZNAME:EST
DTSTART:20211107T060000
END:STANDARD
BEGIN:DAYLIGHT
TZOFFSETFROM:-0500
TZOFFSETTO:-0400
TZNAME:EDT
DTSTART:20220313T070000
END:DAYLIGHT
BEGIN:STANDARD
TZOFFSETFROM:-0400
TZOFFSETTO:-0500
TZNAME:EST
DTSTART:20221106T060000
END:STANDARD
END:VTIMEZONE
BEGIN:VTIMEZONE
TZID:UTC
BEGIN:STANDARD
TZOFFSETFROM:+0000
TZOFFSETTO:+0000
TZNAME:UTC
DTSTART:20200101T000000
END:STANDARD
END:VTIMEZONE
BEGIN:VTIMEZONE
TZID:America/Chicago
BEGIN:DAYLIGHT
TZOFFSETFROM:-0600
TZOFFSETTO:-0500
TZNAME:CDT
DTSTART:20200308T080000
END:DAYLIGHT
BEGIN:STANDARD
TZOFFSETFROM:-0500
TZOFFSETTO:-0600
TZNAME:CST
DTSTART:20201101T070000
END:STANDARD
BEGIN:DAYLIGHT
TZOFFSETFROM:-0600
TZOFFSETTO:-0500
TZNAME:CDT
DTSTART:20210314T080000
END:DAYLIGHT
BEGIN:STANDARD
TZOFFSETFROM:-0500
TZOFFSETTO:-0600
TZNAME:CST
DTSTART:20211107T070000
END:STANDARD
BEGIN:DAYLIGHT
TZOFFSETFROM:-0600
TZOFFSETTO:-0500
TZNAME:CDT
DTSTART:20220313T080000
END:DAYLIGHT
BEGIN:STANDARD
TZOFFSETFROM:-0500
TZOFFSETTO:-0600
TZNAME:CST
DTSTART:20221106T070000
END:STANDARD
END:VTIMEZONE
BEGIN:VEVENT
DTSTART;TZID=America/New_York:20210626T160000
DTEND;TZID=America/New_York:20210626T180000
DTSTAMP:20260425T184339
CREATED:20210608T033926Z
LAST-MODIFIED:20210616T154614Z
UID:2823-1624723200-1624730400@www.granta.com.es
SUMMARY:Firma de libros en Old Florida Book Shop
DESCRIPTION:
URL:https://www.granta.com.es/event/firma-de-libros-en-old-florida-book-shop/
LOCATION:Old Florida Book Shop\, 3426 Griffin Rd.\, Fort Lauderdale\, Florida\, 33312\, Estados Unidos
END:VEVENT
BEGIN:VEVENT
DTSTART;TZID=America/Panama:20210819T140000
DTEND;TZID=America/Panama:20210819T160000
DTSTAMP:20260425T184339
CREATED:20210819T141819Z
LAST-MODIFIED:20210819T142103Z
UID:2904-1629381600-1629388800@www.granta.com.es
SUMMARY:Nueva narrativa latinoamericana - FIL Panamá
DESCRIPTION:
URL:https://www.granta.com.es/event/nueva-narrativa-latinoamericana/
END:VEVENT
BEGIN:VEVENT
DTSTART;TZID=Europe/Helsinki:20210826T180000
DTEND;TZID=Europe/Helsinki:20210826T200000
DTSTAMP:20260425T184339
CREATED:20210808T072903Z
LAST-MODIFIED:20210808T072903Z
UID:2889-1630000800-1630008000@www.granta.com.es
SUMMARY:Granta 155 Launch
DESCRIPTION:
URL:https://www.granta.com.es/event/granta-155-launch/
END:VEVENT
BEGIN:VEVENT
DTSTART;TZID=Asia/Karachi:20210902T183000
DTEND;TZID=Asia/Karachi:20210902T203000
DTSTAMP:20260425T184339
CREATED:20210825T054639Z
LAST-MODIFIED:20210825T055000Z
UID:2909-1630607400-1630614600@www.granta.com.es
SUMMARY:El Club Bilingüe: First Two Stories
DESCRIPTION:
URL:https://www.granta.com.es/event/el-club-bilingue-first-two-stories/
END:VEVENT
BEGIN:VEVENT
DTSTART;TZID=Europe/Helsinki:20210903T140000
DTEND;TZID=Europe/Helsinki:20210903T160000
DTSTAMP:20260425T184339
CREATED:20210808T073343Z
LAST-MODIFIED:20210901T065253Z
UID:2892-1630677600-1630684800@www.granta.com.es
SUMMARY:Hay Festival Querétaro: Andrea Chapela\, Aura García-Junco y Alejandro Morellón conversan con Valerie Miles
DESCRIPTION:
URL:https://www.granta.com.es/event/hay-festival-queretaro-granta-2021/
END:VEVENT
BEGIN:VEVENT
DTSTART;TZID=America/Mexico_City:20210905T103000
DTEND;TZID=America/Mexico_City:20210905T123000
DTSTAMP:20260425T184339
CREATED:20210901T065601Z
LAST-MODIFIED:20210901T070359Z
UID:2919-1630837800-1630845000@www.granta.com.es
SUMMARY:Hay Festival Querétaro: Paulina Flores\, Carlos Manuel Álvarez y Mónica Ojeda conversan con Francisco Manetto
DESCRIPTION:
URL:https://www.granta.com.es/event/hay-festival-queretaro-paulina-flores-carlos-manuel-alvarez-y-monica-ojeda-conversan-con-francisco-manetto/
END:VEVENT
BEGIN:VEVENT
DTSTART;TZID=Europe/Helsinki:20210915T120000
DTEND;TZID=Europe/Helsinki:20210915T140000
DTSTAMP:20260425T184339
CREATED:20210903T132050Z
LAST-MODIFIED:20210903T132050Z
UID:2938-1631707200-1631714400@www.granta.com.es
SUMMARY:Nuevas voces del español en China
DESCRIPTION:
URL:https://www.granta.com.es/event/nuevas-voces-del-espanol-en-china/
END:VEVENT
BEGIN:VEVENT
DTSTART;TZID=Europe/Helsinki:20210916T190000
DTEND;TZID=Europe/Helsinki:20210916T210000
DTSTAMP:20260425T184339
CREATED:20210831T134029Z
LAST-MODIFIED:20210831T134054Z
UID:2914-1631818800-1631826000@www.granta.com.es
SUMMARY:Festival Centroamérica Cuenta. Mesa redonda: selección Granta 2021
DESCRIPTION:
URL:https://www.granta.com.es/event/festival-centroamerica-cuenta-mesa-redonda-seleccion-granta-2021/
END:VEVENT
BEGIN:VEVENT
DTSTART;TZID=Asia/Karachi:20210922T183000
DTEND;TZID=Asia/Karachi:20210922T203000
DTSTAMP:20260425T184339
CREATED:20210915T150303Z
LAST-MODIFIED:20210915T150303Z
UID:2942-1632335400-1632342600@www.granta.com.es
SUMMARY:Brazos Bookstore & Granta
DESCRIPTION:
URL:https://www.granta.com.es/event/brazos-bookstore-granta/
END:VEVENT
BEGIN:VEVENT
DTSTART;TZID=America/New_York:20211002T160000
DTEND;TZID=America/New_York:20211002T170000
DTSTAMP:20260425T184339
CREATED:20210928T115503Z
LAST-MODIFIED:20210928T115503Z
UID:2945-1633190400-1633194000@www.granta.com.es
SUMMARY:Brooklyn Book Festival. Granta’s Best of Young Spanish Language Novelists
DESCRIPTION:
URL:https://www.granta.com.es/event/brooklyn-book-festival-grantas-best-of-young-spanish-language-novelists/
END:VEVENT
BEGIN:VEVENT
DTSTART;TZID=Europe/Helsinki:20211011T080000
DTEND;TZID=Europe/Helsinki:20211011T183000
DTSTAMP:20260425T184339
CREATED:20210930T063707Z
LAST-MODIFIED:20210930T063726Z
UID:2950-1633939200-1633977000@www.granta.com.es
SUMMARY:Granta in conversation: Cristina Morales\, Carlos Fonseca y Mateo García Elizondo
DESCRIPTION:
URL:https://www.granta.com.es/event/granta-in-conversation-cristina-morales-carlos-fonseca-y-mateo-garcia-elizondo/
END:VEVENT
BEGIN:VEVENT
DTSTART;TZID=Europe/Helsinki:20211012T170000
DTEND;TZID=Europe/Helsinki:20211012T190000
DTSTAMP:20260425T184339
CREATED:20210930T064817Z
LAST-MODIFIED:20210930T065423Z
UID:2953-1634058000-1634065200@www.granta.com.es
SUMMARY:Granta in Winstanly Lecture Hall\, Trinity College. Cambridge University
DESCRIPTION:
URL:https://www.granta.com.es/event/granta-in-winstanly-lecture-hall-trinity-college-cambridge-university/
END:VEVENT
BEGIN:VEVENT
DTSTART;TZID=Europe/Helsinki:20211013T133000
DTEND;TZID=Europe/Helsinki:20211013T143000
DTSTAMP:20260425T184339
CREATED:20210930T070036Z
LAST-MODIFIED:20210930T070036Z
UID:2957-1634131800-1634135400@www.granta.com.es
SUMMARY:L155 Granta's Best Of Young Spanish-Language Novelists
DESCRIPTION:
URL:https://www.granta.com.es/event/l155-grantas-best-of-young-spanish-language-novelists/
END:VEVENT
BEGIN:VEVENT
DTSTART;TZID=Europe/Helsinki:20211014T180000
DTEND;TZID=Europe/Helsinki:20211014T200000
DTSTAMP:20260425T184339
CREATED:20210930T070945Z
LAST-MODIFIED:20210930T070945Z
UID:2960-1634234400-1634241600@www.granta.com.es
SUMMARY:Spanish-Language Stories: Mateo García Elizondo\, Valerie Miles & Cristina Morales
DESCRIPTION:
URL:https://www.granta.com.es/event/spanish-language-stories-mateo-garcia-elizondo-valerie-miles-cristina-morales/
END:VEVENT
BEGIN:VEVENT
DTSTART;TZID=Europe/Helsinki:20211017T180000
DTEND;TZID=Europe/Helsinki:20211017T200000
DTSTAMP:20260425T184339
CREATED:20210928T120500Z
LAST-MODIFIED:20210928T120619Z
UID:2947-1634493600-1634500800@www.granta.com.es
SUMMARY:El Matadero Madrid. Granta: los mejores narradores en español 2
DESCRIPTION:
URL:https://www.granta.com.es/event/granta-los-mejores-narradores-en-espanol-2-en-el-matadero/
END:VEVENT
BEGIN:VEVENT
DTSTART;TZID=America/New_York:20211120T120000
DTEND;TZID=America/New_York:20211120T140000
DTSTAMP:20260425T184339
CREATED:20211115T081916Z
LAST-MODIFIED:20211115T081916Z
UID:2969-1637409600-1637416800@www.granta.com.es
SUMMARY:Miami Book Fair
DESCRIPTION:
URL:https://www.granta.com.es/event/miami-book-fair/
END:VEVENT
BEGIN:VEVENT
DTSTART;TZID=UTC:20211130T190000
DTEND;TZID=UTC:20211130T202000
DTSTAMP:20260425T184339
CREATED:20211115T095157Z
LAST-MODIFIED:20211130T063434Z
UID:2972-1638298800-1638303600@www.granta.com.es
SUMMARY:Constelaciones literarias: Granta y Cuadernos Hispanoamericanos en la conversación transatlántica
DESCRIPTION:
URL:https://www.granta.com.es/event/constelaciones-literarias-granta-y-cuadernos-hispanoamericanos-en-la-conversacion-transatlantica/
END:VEVENT
BEGIN:VEVENT
DTSTART;TZID=UTC:20211202T190000
DTEND;TZID=UTC:20211202T202000
DTSTAMP:20260425T184339
CREATED:20211115T095424Z
LAST-MODIFIED:20211115T095424Z
UID:2975-1638471600-1638476400@www.granta.com.es
SUMMARY:Granta\, generaciones 2010-2021
DESCRIPTION:
URL:https://www.granta.com.es/event/granta-generaciones-2010-2021/
END:VEVENT
BEGIN:VEVENT
DTSTART;TZID=UTC:20211204T110000
DTEND;TZID=UTC:20211204T130000
DTSTAMP:20260425T184339
CREATED:20211126T165730Z
LAST-MODIFIED:20211126T165730Z
UID:2990-1638615600-1638622800@www.granta.com.es
SUMMARY:Correspondencias hispanoamericanas
DESCRIPTION:
URL:https://www.granta.com.es/event/correspondencias-hispanoamericanas/
END:VEVENT
BEGIN:VEVENT
DTSTART;TZID=America/Chicago:20211205T110000
DTEND;TZID=America/Chicago:20211205T173000
DTSTAMP:20260425T184339
CREATED:20211125T160110Z
LAST-MODIFIED:20211126T165759Z
UID:2987-1638702000-1638725400@www.granta.com.es
SUMMARY:Talleres con David Aliaga y Alejandro Morellón en FIL Guadalajara
DESCRIPTION:
URL:https://www.granta.com.es/event/talleres-con-david-aliaga-y-alejandro-morellon-en-fil-guadalajara/
END:VEVENT
BEGIN:VEVENT
DTSTART;TZID=Europe/Helsinki:20220217T190000
DTEND;TZID=Europe/Helsinki:20220217T210000
DTSTAMP:20260425T184339
CREATED:20220214T072916Z
LAST-MODIFIED:20220214T072916Z
UID:3098-1645124400-1645131600@www.granta.com.es
SUMMARY:Conferencia escritores Granta
DESCRIPTION:
URL:https://www.granta.com.es/event/conferencia-escritores-granta/
END:VEVENT
BEGIN:VEVENT
DTSTART;TZID=Europe/Helsinki:20220309T190000
DTEND;TZID=Europe/Helsinki:20220309T210000
DTSTAMP:20260425T184339
CREATED:20220225T154812Z
LAST-MODIFIED:20220225T154902Z
UID:3123-1646852400-1646859600@www.granta.com.es
SUMMARY:Valencia. Conversaciones Cañada Blanch y Granta: José Ardila y Dainerys Machado
DESCRIPTION:CONVERSACIONES CAÑADA BLANCH Y GRANTA: JOSÉ ARDILA Y DAINERYS MACHADO.\nSabor. La literatura contemporánea en Cuba y Colombia.\n\n\n09/03/2022 – 19h \n\n\n\nPresencial: Sede de la Fundación Cañada Blanch \n(C/ Jorge Juan\, 4 – 2ª – 46004 Valencia)
URL:https://www.granta.com.es/event/conversaciones-canada-blanch-y-granta-jose-ardila-y-dainerys-machado/
END:VEVENT
BEGIN:VEVENT
DTSTART;TZID=Europe/Helsinki:20220310T190000
DTEND;TZID=Europe/Helsinki:20220310T210000
DTSTAMP:20260425T184339
CREATED:20220218T081744Z
LAST-MODIFIED:20220225T155237Z
UID:3115-1646938800-1646946000@www.granta.com.es
SUMMARY:Barcelona. «Sabor. La literatura contemporánea en Cuba y en Colombia». Una tarde con Dainerys Machado\, José Ardila y Valerie Miles
DESCRIPTION:Dainerys Machado y José Ardila\, de Cuba y Colombia respectivamente\, son herederos de la monumental tradición literaria de sus países\, y así lo ratifica su inclusión en la nueva edición de la revista Granta dedicada a Los mejores narradores jóvenes en español 2. Ambos nos visitan acompañados por Valerie Miles\, editora de la revista\, para conversar en torno a su obra y las tendencias de la literatura contemporánea. \n\nTras una conversación en la que se tratarán las claves fundamentales de las poéticas de estos dos narradores\, el humor de Machado y la ternura y melancolía de Ardila\, así como las peculiaridades sonoras de sus estilos\, tendremos la ocasión de escucharlos leer su propia obra. También exploraremos el vínculo con la tradición y su ruptura\, las tendencias de la literatura contemporánea que se escribe en Cuba y en Colombia. \nUn diálogo en el que tampoco faltarán cuestiones referidas a la traducción\, sobre todo desde la experiencia particular de estos dos narradores y todas las variantes de reescritura que supone representar un texto literario en otro idioma. \nDainerys Machado Vento\n(La Habana. 1986) \nEscritora\, periodista e investigadora literaria. Sus relatos y ensayos en castellano y en inglés han sido publicados en varias revistas y antologías. Actualmente está terminando un Doctorado en la Universidad de Miami\, donde trabaja en el Centro para las Humanidades. Es licenciada en Periodismo por la Universidad de La Habana y autora de Las noventa Habanas (Katakana\, 2019). \nJosé Ardila\n(Chigorodó. 1985) \nEscritor\, editor y guionista. Nació en el Caribe colombiano y vive en Medellín desde hace 20 años. Es autor de Divagaciones en el interior de una ballena (2012) y Libro del tedio (Angosta\, 2017). También codirige Querida\, una premiada productora de cine para la que ha escrito los cortometrajes La herencia y Tomaidy\, amor y la película La cábala del pez. \nValerie Miles\n(Nueva York. 1963) \nEscritora\, editora y traductora. Ha dirigido proyectos editoriales como Emecé y Alfaguara. Es Fellow de la National Endowment for the Arts por su traducción de Crematorio\, de Rafael Chirbes. Colabora con The New Yorker\, The New York Times\, The Paris Review y New York Review of Books. Es cofundadora de Granta en español. Actualmente trabaja en la traducción al inglés del Borges de Adolfo Bioy Casares. \nActividad organizada por Revista Granta y Casa Amèrica Catalunya con la colaboración de Editorial Candaya\, Maestría de Traducción Literaria de UPF-BSM y Bibliotecas de Barcelona. \nCrédito fotos:\n-José Ardila: Pablo Restrepo Giraldo\n-Valerie Miles: Nina Subin \n\n\nDía / Hora: 10/03/2022\, 19:00 H\nLugar: Casa Amèrica Catalunya
URL:https://www.granta.com.es/event/sabor-la-literatura-contemporanea-en-cuba-y-en-colombia-una-tarde-con-dainerys-machado-jose-ardila-y-valerie-miles/
END:VEVENT
END:VCALENDAR