BEGIN:VCALENDAR
VERSION:2.0
PRODID:-//Granta - ECPv6.15.13//NONSGML v1.0//EN
CALSCALE:GREGORIAN
METHOD:PUBLISH
X-ORIGINAL-URL:https://www.granta.com.es
X-WR-CALDESC:Eventos para Granta
REFRESH-INTERVAL;VALUE=DURATION:PT1H
X-Robots-Tag:noindex
X-PUBLISHED-TTL:PT1H
BEGIN:VTIMEZONE
TZID:America/Panama
BEGIN:STANDARD
TZOFFSETFROM:-0500
TZOFFSETTO:-0500
TZNAME:EST
DTSTART:20200101T000000
END:STANDARD
END:VTIMEZONE
BEGIN:VTIMEZONE
TZID:Europe/Helsinki
BEGIN:DAYLIGHT
TZOFFSETFROM:+0200
TZOFFSETTO:+0300
TZNAME:EEST
DTSTART:20200329T010000
END:DAYLIGHT
BEGIN:STANDARD
TZOFFSETFROM:+0300
TZOFFSETTO:+0200
TZNAME:EET
DTSTART:20201025T010000
END:STANDARD
BEGIN:DAYLIGHT
TZOFFSETFROM:+0200
TZOFFSETTO:+0300
TZNAME:EEST
DTSTART:20210328T010000
END:DAYLIGHT
BEGIN:STANDARD
TZOFFSETFROM:+0300
TZOFFSETTO:+0200
TZNAME:EET
DTSTART:20211031T010000
END:STANDARD
BEGIN:DAYLIGHT
TZOFFSETFROM:+0200
TZOFFSETTO:+0300
TZNAME:EEST
DTSTART:20220327T010000
END:DAYLIGHT
BEGIN:STANDARD
TZOFFSETFROM:+0300
TZOFFSETTO:+0200
TZNAME:EET
DTSTART:20221030T010000
END:STANDARD
END:VTIMEZONE
BEGIN:VEVENT
DTSTART;TZID=America/Panama:20210819T140000
DTEND;TZID=America/Panama:20210819T160000
DTSTAMP:20260425T141145
CREATED:20210819T141819Z
LAST-MODIFIED:20210819T142103Z
UID:2904-1629381600-1629388800@www.granta.com.es
SUMMARY:Nueva narrativa latinoamericana - FIL Panamá
DESCRIPTION:
URL:https://www.granta.com.es/event/nueva-narrativa-latinoamericana/
END:VEVENT
BEGIN:VEVENT
DTSTART;TZID=Europe/Helsinki:20210826T180000
DTEND;TZID=Europe/Helsinki:20210826T200000
DTSTAMP:20260425T141145
CREATED:20210808T072903Z
LAST-MODIFIED:20210808T072903Z
UID:2889-1630000800-1630008000@www.granta.com.es
SUMMARY:Granta 155 Launch
DESCRIPTION:
URL:https://www.granta.com.es/event/granta-155-launch/
END:VEVENT
END:VCALENDAR